Package: ChIPQC Version: 1.42.0 Command: /Library/Frameworks/R.framework/Resources/bin/R CMD build --keep-empty-dirs --no-resave-data ChIPQC StartedAt: 2025-02-03 20:29:50 -0500 (Mon, 03 Feb 2025) EndedAt: 2025-02-03 20:31:33 -0500 (Mon, 03 Feb 2025) EllapsedTime: 103.0 seconds RetCode: 0 Status: OK PackageFile: ChIPQC_1.42.0.tar.gz PackageFileSize: 1.523 MiB