Package: ChIPQC Version: 1.42.0 Command: /Library/Frameworks/R.framework/Resources/bin/R CMD INSTALL ChIPQC StartedAt: 2025-02-03 16:37:47 -0500 (Mon, 03 Feb 2025) EndedAt: 2025-02-03 16:38:50 -0500 (Mon, 03 Feb 2025) EllapsedTime: 63.1 seconds RetCode: 0 Status: OK