Package: ChIPQC Version: 1.42.0 Command: /home/biocbuild/bbs-3.20-bioc/R/bin/R CMD build --keep-empty-dirs --no-resave-data --md5 ChIPQC StartedAt: 2025-02-03 16:48:55 -0500 (Mon, 03 Feb 2025) EndedAt: 2025-02-03 16:50:16 -0500 (Mon, 03 Feb 2025) EllapsedTime: 81.1 seconds RetCode: 0 Status: OK PackageFile: ChIPQC_1.42.0.tar.gz PackageFileSize: 1.525 MiB