Package: ChIPXpress Version: 1.50.0 Command: /Library/Frameworks/R.framework/Resources/bin/R CMD INSTALL ChIPXpress StartedAt: 2025-02-03 15:42:23 -0500 (Mon, 03 Feb 2025) EndedAt: 2025-02-03 15:42:42 -0500 (Mon, 03 Feb 2025) EllapsedTime: 18.3 seconds RetCode: 0 Status: OK