Package: ChIPanalyser Version: 1.28.0 Command: /Library/Frameworks/R.framework/Resources/bin/R CMD check --install=check:ChIPanalyser.install-out.txt --library=/Library/Frameworks/R.framework/Resources/library --no-vignettes --timings ChIPanalyser_1.28.0.tar.gz StartedAt: 2025-02-04 14:29:03 -0500 (Tue, 04 Feb 2025) EndedAt: 2025-02-04 14:36:14 -0500 (Tue, 04 Feb 2025) EllapsedTime: 431.2 seconds RetCode: 0 Status: OK CheckDir: ChIPanalyser.Rcheck Warnings: 0