Package: ChIPanalyser Version: 1.28.0 Command: /Library/Frameworks/R.framework/Resources/bin/R CMD INSTALL ChIPanalyser StartedAt: 2025-02-03 16:00:01 -0500 (Mon, 03 Feb 2025) EndedAt: 2025-02-03 16:00:44 -0500 (Mon, 03 Feb 2025) EllapsedTime: 43.3 seconds RetCode: 0 Status: OK