Package: ChIPanalyser
Version: 1.28.0
Command: rm -rf ChIPanalyser.buildbin-libdir && mkdir ChIPanalyser.buildbin-libdir && /Users/biocbuild/BBS/utils/build-universal.sh ChIPanalyser_1.28.0.tar.gz /Library/Frameworks/R.framework/Resources/bin/R ChIPanalyser.buildbin-libdir
StartedAt: 2024-11-20 04:18:49 -0500 (Wed, 20 Nov 2024)
EndedAt: 2024-11-20 04:19:47 -0500 (Wed, 20 Nov 2024)
EllapsedTime: 57.6 seconds
RetCode: 0
Status: OK
PackageFile: ChIPanalyser_1.28.0.tgz
PackageFileSize: 1.958 <A href="http://en.wikipedia.org/wiki/MiB" target="_blank">MiB</A>