##############################################################################
##############################################################################
###
### Running command:
###
###   /home/biocbuild/bbs-3.20-bioc/R/bin/R CMD build --keep-empty-dirs --no-resave-data --md5 ChIPanalyser
###
##############################################################################
##############################################################################


* checking for file ‘ChIPanalyser/DESCRIPTION’ ... OK
* preparing ‘ChIPanalyser’:
* checking DESCRIPTION meta-information ... OK
* installing the package to process help pages
* saving partial Rd database
* creating vignettes ... OK
* checking for LF line-endings in source and make files and shell scripts
* checking for empty or unneeded directories
* adding MD5 file
* building ‘ChIPanalyser_1.28.0.tar.gz’