Package: ChIPexoQual Version: 1.30.0 Command: rm -rf ChIPexoQual.buildbin-libdir && mkdir ChIPexoQual.buildbin-libdir && /Users/biocbuild/BBS/utils/build-universal.sh ChIPexoQual_1.30.0.tar.gz /Library/Frameworks/R.framework/Resources/bin/R ChIPexoQual.buildbin-libdir StartedAt: 2024-11-20 04:18:49 -0500 (Wed, 20 Nov 2024) EndedAt: 2024-11-20 04:19:56 -0500 (Wed, 20 Nov 2024) EllapsedTime: 66.7 seconds RetCode: 0 Status: OK PackageFile: ChIPexoQual_1.30.0.tgz PackageFileSize: 2.521 MiB