Package: ChIPexoQual Version: 1.30.0 Command: /Library/Frameworks/R.framework/Resources/bin/R CMD check --install=check:ChIPexoQual.install-out.txt --library=/Library/Frameworks/R.framework/Resources/library --no-vignettes --timings ChIPexoQual_1.30.0.tar.gz StartedAt: 2025-02-04 01:09:16 -0500 (Tue, 04 Feb 2025) EndedAt: 2025-02-04 01:23:08 -0500 (Tue, 04 Feb 2025) EllapsedTime: 832.4 seconds RetCode: 0 Status: OK CheckDir: ChIPexoQual.Rcheck Warnings: 0