Package: ChIPexoQual Version: 1.30.0 Command: /Library/Frameworks/R.framework/Resources/bin/R CMD INSTALL ChIPexoQual StartedAt: 2025-02-10 15:56:11 -0500 (Mon, 10 Feb 2025) EndedAt: 2025-02-10 15:57:44 -0500 (Mon, 10 Feb 2025) EllapsedTime: 92.9 seconds RetCode: 0 Status: OK