Package: ChIPexoQual Version: 1.30.0 Command: /home/biocbuild/bbs-3.20-bioc/R/bin/R CMD build --keep-empty-dirs --no-resave-data --md5 ChIPexoQual StartedAt: 2025-02-10 16:41:27 -0500 (Mon, 10 Feb 2025) EndedAt: 2025-02-10 16:43:43 -0500 (Mon, 10 Feb 2025) EllapsedTime: 136.1 seconds RetCode: 0 Status: OK PackageFile: ChIPexoQual_1.30.0.tar.gz PackageFileSize: 2.344 MiB