Package: ChIPpeakAnno Version: 3.40.0 Command: rm -rf ChIPpeakAnno.buildbin-libdir && mkdir ChIPpeakAnno.buildbin-libdir && /Users/biocbuild/BBS/utils/build-universal.sh ChIPpeakAnno_3.40.0.tar.gz /Library/Frameworks/R.framework/Resources/bin/R ChIPpeakAnno.buildbin-libdir StartedAt: 2025-02-05 15:11:59 -0500 (Wed, 05 Feb 2025) EndedAt: 2025-02-05 15:14:48 -0500 (Wed, 05 Feb 2025) EllapsedTime: 168.7 seconds RetCode: 0 Status: OK PackageFile: ChIPpeakAnno_3.40.0.tgz PackageFileSize: 22.58 MiB