Package: ChIPpeakAnno Version: 3.40.0 Command: /Library/Frameworks/R.framework/Resources/bin/R CMD build --keep-empty-dirs --no-resave-data ChIPpeakAnno StartedAt: 2025-02-03 20:28:43 -0500 (Mon, 03 Feb 2025) EndedAt: 2025-02-03 20:48:56 -0500 (Mon, 03 Feb 2025) EllapsedTime: 1212.8 seconds RetCode: 0 Status: OK PackageFile: ChIPpeakAnno_3.40.0.tar.gz PackageFileSize: 21.47 MiB