Package: ChIPpeakAnno Version: 3.40.0 Command: /Library/Frameworks/R.framework/Resources/bin/R CMD check --install=check:ChIPpeakAnno.install-out.txt --library=/Library/Frameworks/R.framework/Resources/library --no-vignettes --timings ChIPpeakAnno_3.40.0.tar.gz StartedAt: 2025-02-04 14:34:21 -0500 (Tue, 04 Feb 2025) EndedAt: 2025-02-04 14:46:34 -0500 (Tue, 04 Feb 2025) EllapsedTime: 733.2 seconds RetCode: 0 Status: OK CheckDir: ChIPpeakAnno.Rcheck Warnings: 0