Package: ChIPpeakAnno Version: 3.40.0 Command: /Library/Frameworks/R.framework/Resources/bin/R CMD INSTALL ChIPpeakAnno StartedAt: 2025-02-03 17:24:10 -0500 (Mon, 03 Feb 2025) EndedAt: 2025-02-03 17:26:44 -0500 (Mon, 03 Feb 2025) EllapsedTime: 153.7 seconds RetCode: 0 Status: OK