Package: ChIPpeakAnno Version: 3.40.0 Command: chmod a+r ChIPpeakAnno -R && F:\biocbuild\bbs-3.20-bioc\R\bin\R.exe CMD build --keep-empty-dirs --no-resave-data ChIPpeakAnno StartedAt: 2025-02-03 18:06:27 -0500 (Mon, 03 Feb 2025) EndedAt: 2025-02-03 18:27:09 -0500 (Mon, 03 Feb 2025) EllapsedTime: 1242.6 seconds RetCode: 0 Status: OK PackageFile: ChIPpeakAnno_3.40.0.tar.gz PackageFileSize: 19.58 MiB