Package: ChIPpeakAnno Version: 3.40.0 Command: /home/biocbuild/R/R/bin/R CMD build --keep-empty-dirs --no-resave-data ChIPpeakAnno StartedAt: 2025-02-03 22:33:53 -0000 (Mon, 03 Feb 2025) EndedAt: 2025-02-03 22:55:24 -0000 (Mon, 03 Feb 2025) EllapsedTime: 1291.1 seconds RetCode: 0 Status: OK PackageFile: ChIPpeakAnno_3.40.0.tar.gz PackageFileSize: 19.76 MiB