Package: ChIPpeakAnno Version: 3.40.0 Command: /home/biocbuild/bbs-3.20-bioc/R/bin/R CMD check --install=check:ChIPpeakAnno.install-out.txt --library=/home/biocbuild/bbs-3.20-bioc/R/site-library --timings ChIPpeakAnno_3.40.0.tar.gz StartedAt: 2024-11-20 00:13:45 -0500 (Wed, 20 Nov 2024) EndedAt: 2024-11-20 00:36:24 -0500 (Wed, 20 Nov 2024) EllapsedTime: 1359.4 seconds RetCode: 0 Status: OK CheckDir: ChIPpeakAnno.Rcheck Warnings: 0