Package: ChIPseeker Version: 1.42.1 Maintainer: Guangchuang Yu MaintainerEmail: guangchuangyu at gmail.com git_url: https://git.bioconductor.org/packages/ChIPseeker git_branch: RELEASE_3_20 git_last_commit: 85cfd78 git_last_commit_date: 2025-01-29 02:59:19 -0500 (Wed, 29 Jan 2025)