Package: ChIPseeker Version: 1.42.1 Command: /Library/Frameworks/R.framework/Resources/bin/R CMD INSTALL ChIPseeker StartedAt: 2025-02-03 17:09:10 -0500 (Mon, 03 Feb 2025) EndedAt: 2025-02-03 17:10:06 -0500 (Mon, 03 Feb 2025) EllapsedTime: 55.5 seconds RetCode: 0 Status: OK