Package: ChIPseeker
Version: 1.42.0
Command: /Library/Frameworks/R.framework/Resources/bin/R CMD build --keep-empty-dirs --no-resave-data ChIPseeker
StartedAt: 2024-11-19 16:16:32 -0500 (Tue, 19 Nov 2024)
EndedAt: 2024-11-19 16:26:02 -0500 (Tue, 19 Nov 2024)
EllapsedTime: 569.8 seconds
RetCode: 0
Status: OK
PackageFile: ChIPseeker_1.42.0.tar.gz
PackageFileSize: 7.406 <A href="http://en.wikipedia.org/wiki/MiB" target="_blank">MiB</A>