Package: ChIPseeker Version: 1.42.1 Command: chmod a+r ChIPseeker -R && F:\biocbuild\bbs-3.20-bioc\R\bin\R.exe CMD build --keep-empty-dirs --no-resave-data ChIPseeker StartedAt: 2025-02-03 18:06:29 -0500 (Mon, 03 Feb 2025) EndedAt: 2025-02-03 18:15:49 -0500 (Mon, 03 Feb 2025) EllapsedTime: 560.0 seconds RetCode: 0 Status: OK PackageFile: ChIPseeker_1.42.1.tar.gz PackageFileSize: 6.642 MiB