Package: ChIPseeker Version: 1.42.1 Command: F:\biocbuild\bbs-3.20-bioc\R\bin\R.exe CMD check --no-multiarch --install=check:ChIPseeker.install-out.txt --library=F:\biocbuild\bbs-3.20-bioc\R\library --no-vignettes --timings ChIPseeker_1.42.1.tar.gz StartedAt: 2025-02-17 23:57:22 -0500 (Mon, 17 Feb 2025) EndedAt: 2025-02-18 00:06:27 -0500 (Tue, 18 Feb 2025) EllapsedTime: 544.6 seconds RetCode: 0 Status: OK CheckDir: ChIPseeker.Rcheck Warnings: 0