Package: ChIPseqR
Version: 1.60.0
Command: /Library/Frameworks/R.framework/Resources/bin/R CMD check --install=check:ChIPseqR.install-out.txt --library=/Library/Frameworks/R.framework/Resources/library --no-vignettes --timings ChIPseqR_1.60.0.tar.gz
StartedAt: 2025-02-18 14:21:43 -0500 (Tue, 18 Feb 2025)
EndedAt: 2025-02-18 14:26:46 -0500 (Tue, 18 Feb 2025)
EllapsedTime: 302.8 seconds
RetCode: 0
Status: OK
CheckDir: ChIPseqR.Rcheck
Warnings: 0