Package: ChIPseqR Version: 1.60.0 Command: /Library/Frameworks/R.framework/Resources/bin/R CMD build --keep-empty-dirs --no-resave-data ChIPseqR StartedAt: 2025-02-03 17:49:39 -0500 (Mon, 03 Feb 2025) EndedAt: 2025-02-03 17:52:22 -0500 (Mon, 03 Feb 2025) EllapsedTime: 163.3 seconds RetCode: 0 Status: OK PackageFile: ChIPseqR_1.60.0.tar.gz PackageFileSize: 729.7 KiB