Package: ChIPseqR Version: 1.60.0 Command: /Library/Frameworks/R.framework/Resources/bin/R CMD INSTALL ChIPseqR StartedAt: 2025-02-03 15:50:40 -0500 (Mon, 03 Feb 2025) EndedAt: 2025-02-03 15:52:01 -0500 (Mon, 03 Feb 2025) EllapsedTime: 81.3 seconds RetCode: 0 Status: OK