Package: ChIPseqR Version: 1.60.0 Command: rm -rf ChIPseqR.buildbin-libdir && mkdir ChIPseqR.buildbin-libdir && F:\biocbuild\bbs-3.20-bioc\R\bin\R.exe CMD INSTALL --build --library=ChIPseqR.buildbin-libdir ChIPseqR_1.60.0.tar.gz StartedAt: 2025-02-04 08:11:46 -0500 (Tue, 04 Feb 2025) EndedAt: 2025-02-04 08:13:00 -0500 (Tue, 04 Feb 2025) EllapsedTime: 74.1 seconds RetCode: 0 Status: OK PackageFile: ChIPseqR_1.60.0.zip PackageFileSize: 1.341 MiB