Package: ChIPseqR Version: 1.60.0 Command: /home/biocbuild/R/R/bin/R CMD build --keep-empty-dirs --no-resave-data ChIPseqR StartedAt: 2025-02-03 22:34:22 -0000 (Mon, 03 Feb 2025) EndedAt: 2025-02-03 22:34:23 -0000 (Mon, 03 Feb 2025) EllapsedTime: 1.0 seconds RetCode: 1 Status: ERROR PackageFile: None PackageFileSize: NA