Package: ChemmineR Version: 3.58.0 Command: /Library/Frameworks/R.framework/Resources/bin/R CMD INSTALL ChemmineR StartedAt: 2025-02-10 18:01:56 -0500 (Mon, 10 Feb 2025) EndedAt: 2025-02-10 18:02:24 -0500 (Mon, 10 Feb 2025) EllapsedTime: 27.9 seconds RetCode: 0 Status: OK