Package: ChemmineR Version: 3.58.0 Command: /Library/Frameworks/R.framework/Resources/bin/R CMD build --keep-empty-dirs --no-resave-data ChemmineR StartedAt: 2025-02-03 17:47:29 -0500 (Mon, 03 Feb 2025) EndedAt: 2025-02-03 17:49:37 -0500 (Mon, 03 Feb 2025) EllapsedTime: 128.2 seconds RetCode: 1 Status: ERROR PackageFile: None PackageFileSize: NA