Package: ChemmineR Version: 3.58.0 Command: /home/biocbuild/bbs-3.20-bioc/R/bin/R CMD check --install=check:ChemmineR.install-out.txt --library=/home/biocbuild/bbs-3.20-bioc/R/site-library --timings ChemmineR_3.58.0.tar.gz StartedAt: 2025-02-10 20:47:03 -0500 (Mon, 10 Feb 2025) EndedAt: 2025-02-10 20:49:32 -0500 (Mon, 10 Feb 2025) EllapsedTime: 149.2 seconds RetCode: 1 Status: ERROR CheckDir: ChemmineR.Rcheck Warnings: NA