Package: ChemmineR Version: 3.58.0 Command: /home/biocbuild/R/R/bin/R CMD INSTALL ChemmineR StartedAt: 2025-02-03 21:16:53 -0000 (Mon, 03 Feb 2025) EndedAt: 2025-02-03 21:17:27 -0000 (Mon, 03 Feb 2025) EllapsedTime: 34.3 seconds RetCode: 0 Status: OK