Package: Chicago Version: 1.34.0 Maintainer: Mikhail Spivakov MaintainerEmail: mikhail.spivakov at lms.mrc.ac.uk git_url: https://git.bioconductor.org/packages/Chicago git_branch: RELEASE_3_20 git_last_commit: 167443f git_last_commit_date: 2024-10-29 10:05:25 -0500 (Tue, 29 Oct 2024)