Package: Chicago Version: 1.34.0 Command: /home/biocbuild/bbs-3.20-bioc/R/bin/R CMD check --install=check:Chicago.install-out.txt --library=/home/biocbuild/bbs-3.20-bioc/R/site-library --timings Chicago_1.34.0.tar.gz StartedAt: 2025-02-10 20:47:12 -0500 (Mon, 10 Feb 2025) EndedAt: 2025-02-10 20:49:54 -0500 (Mon, 10 Feb 2025) EllapsedTime: 162.3 seconds RetCode: 0 Status: OK CheckDir: Chicago.Rcheck Warnings: 0