Package: Chicago Version: 1.34.0 Command: /home/biocbuild/R/R/bin/R CMD build --keep-empty-dirs --no-resave-data Chicago StartedAt: 2025-02-03 22:32:55 -0000 (Mon, 03 Feb 2025) EndedAt: 2025-02-03 22:34:56 -0000 (Mon, 03 Feb 2025) EllapsedTime: 121.0 seconds RetCode: 0 Status: OK PackageFile: Chicago_1.34.0.tar.gz PackageFileSize: 946.1 KiB