Package: Chicago Version: 1.34.0 Command: /home/biocbuild/R/R/bin/R CMD check --install=check:Chicago.install-out.txt --library=/home/biocbuild/R/R/site-library --no-vignettes --timings Chicago_1.34.0.tar.gz StartedAt: 2025-02-04 05:33:03 -0000 (Tue, 04 Feb 2025) EndedAt: 2025-02-04 05:34:48 -0000 (Tue, 04 Feb 2025) EllapsedTime: 105.1 seconds RetCode: 0 Status: OK CheckDir: Chicago.Rcheck Warnings: 0