Package: ChromSCape Version: 1.16.0 Command: /Library/Frameworks/R.framework/Resources/bin/R CMD build --keep-empty-dirs --no-resave-data ChromSCape StartedAt: 2025-02-03 20:36:44 -0500 (Mon, 03 Feb 2025) EndedAt: 2025-02-03 20:38:08 -0500 (Mon, 03 Feb 2025) EllapsedTime: 83.6 seconds RetCode: 0 Status: OK PackageFile: ChromSCape_1.16.0.tar.gz PackageFileSize: 5.303 MiB