Package: ChromSCape Version: 1.16.0 Command: /Library/Frameworks/R.framework/Resources/bin/R CMD build --keep-empty-dirs --no-resave-data ChromSCape StartedAt: 2025-02-03 17:51:33 -0500 (Mon, 03 Feb 2025) EndedAt: 2025-02-03 17:54:04 -0500 (Mon, 03 Feb 2025) EllapsedTime: 151.0 seconds RetCode: 0 Status: OK PackageFile: ChromSCape_1.16.0.tar.gz PackageFileSize: 5.303 MiB