Package: ChromSCape Version: 1.16.0 Command: /Library/Frameworks/R.framework/Resources/bin/R CMD check --install=check:ChromSCape.install-out.txt --library=/Library/Frameworks/R.framework/Resources/library --no-vignettes --timings ChromSCape_1.16.0.tar.gz StartedAt: 2025-02-04 01:12:21 -0500 (Tue, 04 Feb 2025) EndedAt: 2025-02-04 01:41:48 -0500 (Tue, 04 Feb 2025) EllapsedTime: 1767.7 seconds RetCode: 0 Status: WARNINGS CheckDir: ChromSCape.Rcheck Warnings: 3