Package: ChromSCape Version: 1.16.0 Command: rm -rf ChromSCape.buildbin-libdir && mkdir ChromSCape.buildbin-libdir && F:\biocbuild\bbs-3.20-bioc\R\bin\R.exe CMD INSTALL --build --library=ChromSCape.buildbin-libdir ChromSCape_1.16.0.tar.gz StartedAt: 2025-02-04 08:12:06 -0500 (Tue, 04 Feb 2025) EndedAt: 2025-02-04 08:14:09 -0500 (Tue, 04 Feb 2025) EllapsedTime: 122.6 seconds RetCode: 0 Status: OK PackageFile: ChromSCape_1.16.0.zip PackageFileSize: 6.109 MiB