Package: ChromSCape Version: 1.16.0 Command: /home/biocbuild/R/R/bin/R CMD INSTALL ChromSCape StartedAt: 2025-02-03 21:24:29 -0000 (Mon, 03 Feb 2025) EndedAt: 2025-02-03 21:25:35 -0000 (Mon, 03 Feb 2025) EllapsedTime: 66.5 seconds RetCode: 0 Status: OK