Package: CircSeqAlignTk
Version: 1.8.0
Command: /Library/Frameworks/R.framework/Resources/bin/R CMD INSTALL CircSeqAlignTk
StartedAt: 2025-02-17 16:52:17 -0500 (Mon, 17 Feb 2025)
EndedAt: 2025-02-17 16:53:08 -0500 (Mon, 17 Feb 2025)
EllapsedTime: 51.8 seconds
RetCode: 0
Status: OK