Package: CircSeqAlignTk Version: 1.8.0 Command: /Library/Frameworks/R.framework/Resources/bin/R CMD build --keep-empty-dirs --no-resave-data CircSeqAlignTk StartedAt: 2025-02-03 17:53:00 -0500 (Mon, 03 Feb 2025) EndedAt: 2025-02-03 17:58:28 -0500 (Mon, 03 Feb 2025) EllapsedTime: 328.7 seconds RetCode: 0 Status: OK PackageFile: CircSeqAlignTk_1.8.0.tar.gz PackageFileSize: 2.05 MiB