Package: CircSeqAlignTk Version: 1.8.0 Command: /home/biocbuild/bbs-3.20-bioc/R/bin/R CMD check --install=check:CircSeqAlignTk.install-out.txt --library=/home/biocbuild/bbs-3.20-bioc/R/site-library --timings CircSeqAlignTk_1.8.0.tar.gz StartedAt: 2025-02-03 21:00:02 -0500 (Mon, 03 Feb 2025) EndedAt: 2025-02-03 21:07:33 -0500 (Mon, 03 Feb 2025) EllapsedTime: 450.5 seconds RetCode: 0 Status: OK CheckDir: CircSeqAlignTk.Rcheck Warnings: 0