Package: CircSeqAlignTk Version: 1.8.0 Command: chmod a+r CircSeqAlignTk -R && F:\biocbuild\bbs-3.20-bioc\R\bin\R.exe CMD build --keep-empty-dirs --no-resave-data CircSeqAlignTk StartedAt: 2025-02-03 18:09:38 -0500 (Mon, 03 Feb 2025) EndedAt: 2025-02-03 18:12:31 -0500 (Mon, 03 Feb 2025) EllapsedTime: 173.2 seconds RetCode: 0 Status: OK PackageFile: CircSeqAlignTk_1.8.0.tar.gz PackageFileSize: 1.563 MiB