Package: CircSeqAlignTk Version: 1.8.0 Command: F:\biocbuild\bbs-3.20-bioc\R\bin\R.exe CMD check --no-multiarch --install=check:CircSeqAlignTk.install-out.txt --library=F:\biocbuild\bbs-3.20-bioc\R\library --no-vignettes --timings CircSeqAlignTk_1.8.0.tar.gz StartedAt: 2025-02-04 00:17:52 -0500 (Tue, 04 Feb 2025) EndedAt: 2025-02-04 00:24:21 -0500 (Tue, 04 Feb 2025) EllapsedTime: 388.4 seconds RetCode: 1 Status: ERROR CheckDir: CircSeqAlignTk.Rcheck Warnings: NA