Package: CiteFuse Version: 1.18.0 Command: /Library/Frameworks/R.framework/Resources/bin/R CMD check --install=check:CiteFuse.install-out.txt --library=/Library/Frameworks/R.framework/Resources/library --no-vignettes --timings CiteFuse_1.18.0.tar.gz StartedAt: 2025-02-04 01:17:21 -0500 (Tue, 04 Feb 2025) EndedAt: 2025-02-04 01:27:33 -0500 (Tue, 04 Feb 2025) EllapsedTime: 612.3 seconds RetCode: 0 Status: OK CheckDir: CiteFuse.Rcheck Warnings: 0