Package: CiteFuse Version: 1.18.0 Command: rm -rf CiteFuse.buildbin-libdir && mkdir CiteFuse.buildbin-libdir && F:\biocbuild\bbs-3.20-bioc\R\bin\R.exe CMD INSTALL --build --library=CiteFuse.buildbin-libdir CiteFuse_1.18.0.tar.gz StartedAt: 2025-02-04 08:12:34 -0500 (Tue, 04 Feb 2025) EndedAt: 2025-02-04 08:13:35 -0500 (Tue, 04 Feb 2025) EllapsedTime: 60.4 seconds RetCode: 0 Status: OK PackageFile: CiteFuse_1.18.0.zip PackageFileSize: 2.922 MiB