Package: CiteFuse Version: 1.18.0 Command: /home/biocbuild/R/R/bin/R CMD build --keep-empty-dirs --no-resave-data CiteFuse StartedAt: 2025-02-03 22:37:05 -0000 (Mon, 03 Feb 2025) EndedAt: 2025-02-03 22:41:15 -0000 (Mon, 03 Feb 2025) EllapsedTime: 249.7 seconds RetCode: 0 Status: OK PackageFile: CiteFuse_1.18.0.tar.gz PackageFileSize: 2.674 MiB